Package: tripr Version: 1.13.0 Command: /home/biocbuild/bbs-3.21-bioc/R/bin/R CMD INSTALL tripr StartedAt: 2025-02-20 15:16:27 -0500 (Thu, 20 Feb 2025) EndedAt: 2025-02-20 15:16:57 -0500 (Thu, 20 Feb 2025) EllapsedTime: 30.3 seconds RetCode: 0 Status: OK