Package: tripr Version: 1.13.0 Command: /home/biocbuild/bbs-3.21-bioc/R/bin/R CMD check --install=check:tripr.install-out.txt --library=/home/biocbuild/bbs-3.21-bioc/R/site-library --timings tripr_1.13.0.tar.gz StartedAt: 2025-02-21 02:43:07 -0500 (Fri, 21 Feb 2025) EndedAt: 2025-02-21 02:43:13 -0500 (Fri, 21 Feb 2025) EllapsedTime: 6.0 seconds RetCode: 1 Status: ERROR CheckDir: tripr.Rcheck Warnings: NA