Package: tripr Version: 1.13.0 Command: /Library/Frameworks/R.framework/Resources/bin/R CMD check --install=check:tripr.install-out.txt --library=/Library/Frameworks/R.framework/Resources/library --no-vignettes --timings tripr_1.13.0.tar.gz StartedAt: 2025-02-20 21:54:56 -0500 (Thu, 20 Feb 2025) EndedAt: 2025-02-20 21:56:03 -0500 (Thu, 20 Feb 2025) EllapsedTime: 66.8 seconds RetCode: 0 Status: WARNINGS CheckDir: tripr.Rcheck Warnings: 1