Package: triplex Version: 1.47.0 Command: /home/biocbuild/bbs-3.21-bioc/R/bin/R CMD INSTALL triplex StartedAt: 2025-02-20 15:50:49 -0500 (Thu, 20 Feb 2025) EndedAt: 2025-02-20 15:51:04 -0500 (Thu, 20 Feb 2025) EllapsedTime: 15.7 seconds RetCode: 0 Status: OK