Package: triplex Version: 1.47.0 Command: /home/biocbuild/bbs-3.21-bioc/R/bin/R CMD check --install=check:triplex.install-out.txt --library=/home/biocbuild/bbs-3.21-bioc/R/site-library --timings triplex_1.47.0.tar.gz StartedAt: 2025-02-21 02:42:54 -0500 (Fri, 21 Feb 2025) EndedAt: 2025-02-21 02:44:26 -0500 (Fri, 21 Feb 2025) EllapsedTime: 92.1 seconds RetCode: 0 Status: WARNINGS CheckDir: triplex.Rcheck Warnings: 2