Package: triplex Version: 1.47.0 Command: /Library/Frameworks/R.framework/Resources/bin/R CMD check --install=check:triplex.install-out.txt --library=/Library/Frameworks/R.framework/Resources/library --no-vignettes --timings triplex_1.47.0.tar.gz StartedAt: 2025-02-20 21:54:48 -0500 (Thu, 20 Feb 2025) EndedAt: 2025-02-20 21:55:21 -0500 (Thu, 20 Feb 2025) EllapsedTime: 33.4 seconds RetCode: 0 Status: WARNINGS CheckDir: triplex.Rcheck Warnings: 2