Package: trio Version: 3.45.2 Command: E:\biocbuild\bbs-3.21-bioc\R\bin\R.exe CMD INSTALL trio StartedAt: 2025-02-18 15:59:58 -0500 (Tue, 18 Feb 2025) EndedAt: 2025-02-18 16:00:49 -0500 (Tue, 18 Feb 2025) EllapsedTime: 51.6 seconds RetCode: 0 Status: OK