Package: tricycle Version: 1.15.0 Command: rm -rf tricycle.buildbin-libdir && mkdir tricycle.buildbin-libdir && E:\biocbuild\bbs-3.21-bioc\R\bin\R.exe CMD INSTALL --build --library=tricycle.buildbin-libdir tricycle_1.15.0.tar.gz StartedAt: 2025-02-21 09:18:56 -0500 (Fri, 21 Feb 2025) EndedAt: 2025-02-21 09:19:47 -0500 (Fri, 21 Feb 2025) EllapsedTime: 50.5 seconds RetCode: 0 Status: OK PackageFile: tricycle_1.15.0.zip PackageFileSize: 3.712 MiB