Package: tricycle Version: 1.15.0 Command: /home/biocbuild/bbs-3.21-bioc/R/bin/R CMD INSTALL tricycle StartedAt: 2025-02-20 16:07:59 -0500 (Thu, 20 Feb 2025) EndedAt: 2025-02-20 16:08:30 -0500 (Thu, 20 Feb 2025) EllapsedTime: 31.5 seconds RetCode: 0 Status: OK