Package: tricycle Version: 1.15.0 Command: /Library/Frameworks/R.framework/Resources/bin/R CMD check --install=check:tricycle.install-out.txt --library=/Library/Frameworks/R.framework/Resources/library --no-vignettes --timings tricycle_1.15.0.tar.gz StartedAt: 2025-02-19 23:52:17 -0500 (Wed, 19 Feb 2025) EndedAt: 2025-02-19 23:57:15 -0500 (Wed, 19 Feb 2025) EllapsedTime: 297.8 seconds RetCode: 0 Status: OK CheckDir: tricycle.Rcheck Warnings: 0