Package: tricycle Version: 1.15.0 Command: /Library/Frameworks/R.framework/Resources/bin/R CMD build --keep-empty-dirs --no-resave-data tricycle StartedAt: 2025-02-19 18:33:54 -0500 (Wed, 19 Feb 2025) EndedAt: 2025-02-19 18:34:58 -0500 (Wed, 19 Feb 2025) EllapsedTime: 64.0 seconds RetCode: 0 Status: OK PackageFile: tricycle_1.15.0.tar.gz PackageFileSize: 4.099 MiB