Package: tricycle Version: 1.15.0 Command: rm -rf tricycle.buildbin-libdir && mkdir tricycle.buildbin-libdir && /Users/biocbuild/BBS/utils/build-universal.sh tricycle_1.15.0.tar.gz /Library/Frameworks/R.framework/Resources/bin/R tricycle.buildbin-libdir StartedAt: 2025-02-20 00:59:32 -0500 (Thu, 20 Feb 2025) EndedAt: 2025-02-20 01:00:19 -0500 (Thu, 20 Feb 2025) EllapsedTime: 47.1 seconds RetCode: 0 Status: OK PackageFile: tricycle_1.15.0.tgz PackageFileSize: 4.16 MiB