Package: treekoR Version: 1.16.0 Command: /home/biocbuild/bbs-3.21-bioc/R/bin/R CMD build --keep-empty-dirs --no-resave-data treekoR StartedAt: 2025-10-15 20:22:59 -0400 (Wed, 15 Oct 2025) EndedAt: 2025-10-15 20:24:24 -0400 (Wed, 15 Oct 2025) EllapsedTime: 85.1 seconds RetCode: 0 Status: OK PackageFile: treekoR_1.16.0.tar.gz PackageFileSize: 1.708 MiB