Package: treekoR Version: 1.16.0 Command: /home/biocbuild/R/R/bin/R CMD INSTALL treekoR StartedAt: 2025-10-06 20:35:49 -0000 (Mon, 06 Oct 2025) EndedAt: 2025-10-06 20:36:49 -0000 (Mon, 06 Oct 2025) EllapsedTime: 60.2 seconds RetCode: 0 Status: OK