Package: treeio Version: 1.32.0 Command: /home/biocbuild/R/R/bin/R CMD INSTALL treeio StartedAt: 2025-10-13 20:20:26 -0000 (Mon, 13 Oct 2025) EndedAt: 2025-10-13 20:20:36 -0000 (Mon, 13 Oct 2025) EllapsedTime: 10.0 seconds RetCode: 0 Status: OK