Package: treeclimbR Version: 1.3.1 Command: /Library/Frameworks/R.framework/Resources/bin/R CMD INSTALL treeclimbR StartedAt: 2025-02-20 15:43:06 -0500 (Thu, 20 Feb 2025) EndedAt: 2025-02-20 15:43:55 -0500 (Thu, 20 Feb 2025) EllapsedTime: 49.6 seconds RetCode: 0 Status: OK