Package: treeclimbR Version: 1.3.1 Command: /Library/Frameworks/R.framework/Resources/bin/R CMD INSTALL treeclimbR StartedAt: 2025-02-19 15:28:42 -0500 (Wed, 19 Feb 2025) EndedAt: 2025-02-19 15:28:57 -0500 (Wed, 19 Feb 2025) EllapsedTime: 15.5 seconds RetCode: 0 Status: OK