Package: traseR Version: 1.37.0 Command: rm -rf traseR.buildbin-libdir && mkdir traseR.buildbin-libdir && E:\biocbuild\bbs-3.21-bioc\R\bin\R.exe CMD INSTALL --build --library=traseR.buildbin-libdir traseR_1.37.0.tar.gz StartedAt: 2025-02-21 09:18:18 -0500 (Fri, 21 Feb 2025) EndedAt: 2025-02-21 09:18:52 -0500 (Fri, 21 Feb 2025) EllapsedTime: 33.6 seconds RetCode: 0 Status: OK PackageFile: traseR_1.37.0.zip PackageFileSize: 6.294 MiB