Package: traseR Version: 1.37.0 Command: /home/biocbuild/bbs-3.21-bioc/R/bin/R CMD build --keep-empty-dirs --no-resave-data traseR StartedAt: 2025-02-19 19:35:47 -0500 (Wed, 19 Feb 2025) EndedAt: 2025-02-19 19:36:37 -0500 (Wed, 19 Feb 2025) EllapsedTime: 50.1 seconds RetCode: 0 Status: OK PackageFile: traseR_1.37.0.tar.gz PackageFileSize: 6.222 MiB