Package: traseR Version: 1.37.0 Command: /Library/Frameworks/R.framework/Resources/bin/R CMD check --install=check:traseR.install-out.txt --library=/Library/Frameworks/R.framework/Resources/library --no-vignettes --timings traseR_1.37.0.tar.gz StartedAt: 2025-02-20 23:49:56 -0500 (Thu, 20 Feb 2025) EndedAt: 2025-02-20 23:54:42 -0500 (Thu, 20 Feb 2025) EllapsedTime: 285.2 seconds RetCode: 0 Status: OK CheckDir: traseR.Rcheck Warnings: 0