Package: traseR Version: 1.37.0 Command: /Library/Frameworks/R.framework/Resources/bin/R CMD build --keep-empty-dirs --no-resave-data traseR StartedAt: 2025-02-20 18:33:13 -0500 (Thu, 20 Feb 2025) EndedAt: 2025-02-20 18:34:09 -0500 (Thu, 20 Feb 2025) EllapsedTime: 56.3 seconds RetCode: 0 Status: OK PackageFile: traseR_1.37.0.tar.gz PackageFileSize: 6.221 MiB