Package: transomics2cytoscape Version: 1.17.0 Command: /home/biocbuild/bbs-3.21-bioc/R/bin/R CMD INSTALL transomics2cytoscape StartedAt: 2025-02-19 15:24:23 -0500 (Wed, 19 Feb 2025) EndedAt: 2025-02-19 15:24:26 -0500 (Wed, 19 Feb 2025) EllapsedTime: 3.1 seconds RetCode: 0 Status: OK