Package: transomics2cytoscape Version: 1.17.0 Command: /home/biocbuild/bbs-3.21-bioc/R/bin/R CMD build --keep-empty-dirs --no-resave-data transomics2cytoscape StartedAt: 2025-02-19 19:35:39 -0500 (Wed, 19 Feb 2025) EndedAt: 2025-02-19 19:35:47 -0500 (Wed, 19 Feb 2025) EllapsedTime: 8.0 seconds RetCode: 0 Status: OK PackageFile: transomics2cytoscape_1.17.0.tar.gz PackageFileSize: 11.82 MiB