Package: transomics2cytoscape Version: 1.17.0 Command: /home/biocbuild/R/R/bin/R CMD check --install=check:transomics2cytoscape.install-out.txt --library=/home/biocbuild/R/R/site-library --no-vignettes --timings transomics2cytoscape_1.17.0.tar.gz StartedAt: 2025-01-28 16:16:56 -0000 (Tue, 28 Jan 2025) EndedAt: 2025-01-28 16:18:22 -0000 (Tue, 28 Jan 2025) EllapsedTime: 86.1 seconds RetCode: 0 Status: OK CheckDir: transomics2cytoscape.Rcheck Warnings: 0