Package: transmogR Version: 1.3.6 Command: chmod a+r transmogR -R && E:\biocbuild\bbs-3.21-bioc\R\bin\R.exe CMD build --keep-empty-dirs --no-resave-data transmogR StartedAt: 2025-02-20 22:19:22 -0500 (Thu, 20 Feb 2025) EndedAt: 2025-02-20 22:21:19 -0500 (Thu, 20 Feb 2025) EllapsedTime: 116.9 seconds RetCode: 0 Status: OK PackageFile: transmogR_1.3.6.tar.gz PackageFileSize: 539.9 KiB