Package: transmogR Version: 1.3.6 Command: rm -rf transmogR.buildbin-libdir && mkdir transmogR.buildbin-libdir && E:\biocbuild\bbs-3.21-bioc\R\bin\R.exe CMD INSTALL --build --library=transmogR.buildbin-libdir transmogR_1.3.6.tar.gz StartedAt: 2025-02-21 09:18:06 -0500 (Fri, 21 Feb 2025) EndedAt: 2025-02-21 09:19:00 -0500 (Fri, 21 Feb 2025) EllapsedTime: 54.2 seconds RetCode: 0 Status: OK PackageFile: transmogR_1.3.6.zip PackageFileSize: 659.3 KiB