Package: transmogR Version: 1.3.6 Command: /home/biocbuild/bbs-3.21-bioc/R/bin/R CMD INSTALL transmogR StartedAt: 2025-02-19 15:39:11 -0500 (Wed, 19 Feb 2025) EndedAt: 2025-02-19 15:39:49 -0500 (Wed, 19 Feb 2025) EllapsedTime: 38.2 seconds RetCode: 0 Status: OK