Package: transmogR Version: 1.3.6 Command: /Library/Frameworks/R.framework/Resources/bin/R CMD build --keep-empty-dirs --no-resave-data transmogR StartedAt: 2025-02-19 18:33:14 -0500 (Wed, 19 Feb 2025) EndedAt: 2025-02-19 18:34:33 -0500 (Wed, 19 Feb 2025) EllapsedTime: 78.9 seconds RetCode: 0 Status: OK PackageFile: transmogR_1.3.6.tar.gz PackageFileSize: 582 KiB