Package: transmogR Version: 1.3.6 Command: rm -rf transmogR.buildbin-libdir && mkdir transmogR.buildbin-libdir && /Users/biocbuild/BBS/utils/build-universal.sh transmogR_1.3.6.tar.gz /Library/Frameworks/R.framework/Resources/bin/R transmogR.buildbin-libdir StartedAt: 2025-02-20 00:59:22 -0500 (Thu, 20 Feb 2025) EndedAt: 2025-02-20 01:00:19 -0500 (Thu, 20 Feb 2025) EllapsedTime: 57.6 seconds RetCode: 0 Status: OK PackageFile: transmogR_1.3.6.tgz PackageFileSize: 642.9 KiB