Package: transmogR Version: 1.3.6 Command: rm -rf transmogR.buildbin-libdir && mkdir transmogR.buildbin-libdir && /Users/biocbuild/BBS/utils/build-universal.sh transmogR_1.3.6.tar.gz /Library/Frameworks/R.framework/Resources/bin/R transmogR.buildbin-libdir StartedAt: 2025-02-19 22:41:38 -0500 (Wed, 19 Feb 2025) EndedAt: 2025-02-19 22:41:56 -0500 (Wed, 19 Feb 2025) EllapsedTime: 18.4 seconds RetCode: 0 Status: OK PackageFile: transmogR_1.3.6.tgz PackageFileSize: 644.8 KiB