Package: transite Version: 1.25.0 Command: chmod a+r transite -R && E:\biocbuild\bbs-3.21-bioc\R\bin\R.exe CMD build --keep-empty-dirs --no-resave-data transite StartedAt: 2025-02-20 22:19:05 -0500 (Thu, 20 Feb 2025) EndedAt: 2025-02-20 22:19:59 -0500 (Thu, 20 Feb 2025) EllapsedTime: 53.6 seconds RetCode: 0 Status: OK PackageFile: transite_1.25.0.tar.gz PackageFileSize: 610.8 KiB