Package: transite Version: 1.25.0 Command: rm -rf transite.buildbin-libdir && mkdir transite.buildbin-libdir && E:\biocbuild\bbs-3.21-bioc\R\bin\R.exe CMD INSTALL --build --library=transite.buildbin-libdir transite_1.25.0.tar.gz StartedAt: 2025-02-21 09:18:03 -0500 (Fri, 21 Feb 2025) EndedAt: 2025-02-21 09:19:58 -0500 (Fri, 21 Feb 2025) EllapsedTime: 114.9 seconds RetCode: 0 Status: OK PackageFile: transite_1.25.0.zip PackageFileSize: 1.294 MiB