Package: transite Version: 1.25.0 Command: /Library/Frameworks/R.framework/Resources/bin/R CMD INSTALL transite StartedAt: 2025-02-20 15:11:06 -0500 (Thu, 20 Feb 2025) EndedAt: 2025-02-20 15:11:35 -0500 (Thu, 20 Feb 2025) EllapsedTime: 28.3 seconds RetCode: 0 Status: OK