Package: transite Version: 1.25.0 Command: /Library/Frameworks/R.framework/Resources/bin/R CMD check --install=check:transite.install-out.txt --library=/Library/Frameworks/R.framework/Resources/library --no-vignettes --timings transite_1.25.0.tar.gz StartedAt: 2025-02-20 23:49:27 -0500 (Thu, 20 Feb 2025) EndedAt: 2025-02-20 23:58:01 -0500 (Thu, 20 Feb 2025) EllapsedTime: 514.4 seconds RetCode: 0 Status: OK CheckDir: transite.Rcheck Warnings: 0