Package: transite Version: 1.25.0 Command: /Library/Frameworks/R.framework/Resources/bin/R CMD INSTALL transite StartedAt: 2025-02-20 15:06:55 -0500 (Thu, 20 Feb 2025) EndedAt: 2025-02-20 15:07:03 -0500 (Thu, 20 Feb 2025) EllapsedTime: 8.1 seconds RetCode: 0 Status: OK