Package: transite Version: 1.25.0 Command: /Library/Frameworks/R.framework/Resources/bin/R CMD build --keep-empty-dirs --no-resave-data transite StartedAt: 2025-02-20 17:49:28 -0500 (Thu, 20 Feb 2025) EndedAt: 2025-02-20 17:49:41 -0500 (Thu, 20 Feb 2025) EllapsedTime: 13.2 seconds RetCode: 0 Status: OK PackageFile: transite_1.25.0.tar.gz PackageFileSize: 637.8 KiB