Package: transformGamPoi Version: 1.13.0 Command: /home/biocbuild/bbs-3.21-bioc/R/bin/R CMD INSTALL transformGamPoi StartedAt: 2025-02-20 15:48:06 -0500 (Thu, 20 Feb 2025) EndedAt: 2025-02-20 15:48:17 -0500 (Thu, 20 Feb 2025) EllapsedTime: 11.3 seconds RetCode: 0 Status: OK