Package: transformGamPoi Version: 1.13.0 Command: /Library/Frameworks/R.framework/Resources/bin/R CMD check --install=check:transformGamPoi.install-out.txt --library=/Library/Frameworks/R.framework/Resources/library --no-vignettes --timings transformGamPoi_1.13.0.tar.gz StartedAt: 2025-02-20 21:52:21 -0500 (Thu, 20 Feb 2025) EndedAt: 2025-02-20 21:53:20 -0500 (Thu, 20 Feb 2025) EllapsedTime: 58.7 seconds RetCode: 0 Status: OK CheckDir: transformGamPoi.Rcheck Warnings: 0