Package: transcriptR Version: 1.35.0 Command: /home/biocbuild/bbs-3.21-bioc/R/bin/R CMD INSTALL transcriptR StartedAt: 2025-02-20 16:06:16 -0500 (Thu, 20 Feb 2025) EndedAt: 2025-02-20 16:07:01 -0500 (Thu, 20 Feb 2025) EllapsedTime: 44.7 seconds RetCode: 0 Status: OK