Package: tradeSeq Version: 1.21.0 Command: E:\biocbuild\bbs-3.21-bioc\R\bin\R.exe CMD check --no-multiarch --install=check:tradeSeq.install-out.txt --library=E:\biocbuild\bbs-3.21-bioc\R\library --no-vignettes --timings tradeSeq_1.21.0.tar.gz StartedAt: 2025-02-21 06:36:46 -0500 (Fri, 21 Feb 2025) EndedAt: 2025-02-21 06:59:20 -0500 (Fri, 21 Feb 2025) EllapsedTime: 1354.1 seconds RetCode: 0 Status: OK CheckDir: tradeSeq.Rcheck Warnings: 0