Package: tradeSeq Version: 1.21.0 Command: rm -rf tradeSeq.buildbin-libdir && mkdir tradeSeq.buildbin-libdir && E:\biocbuild\bbs-3.21-bioc\R\bin\R.exe CMD INSTALL --build --library=tradeSeq.buildbin-libdir tradeSeq_1.21.0.tar.gz StartedAt: 2025-02-21 09:17:46 -0500 (Fri, 21 Feb 2025) EndedAt: 2025-02-21 09:18:38 -0500 (Fri, 21 Feb 2025) EllapsedTime: 52.4 seconds RetCode: 0 Status: OK PackageFile: tradeSeq_1.21.0.zip PackageFileSize: 2.462 MiB