Package: tradeSeq Version: 1.21.0 Command: /home/biocbuild/bbs-3.21-bioc/R/bin/R CMD INSTALL tradeSeq StartedAt: 2025-02-20 15:34:00 -0500 (Thu, 20 Feb 2025) EndedAt: 2025-02-20 15:34:29 -0500 (Thu, 20 Feb 2025) EllapsedTime: 29.1 seconds RetCode: 0 Status: OK