Package: tradeSeq Version: 1.21.0 Command: /home/biocbuild/bbs-3.21-bioc/R/bin/R CMD build --keep-empty-dirs --no-resave-data tradeSeq StartedAt: 2025-02-20 19:37:34 -0500 (Thu, 20 Feb 2025) EndedAt: 2025-02-20 19:44:15 -0500 (Thu, 20 Feb 2025) EllapsedTime: 400.6 seconds RetCode: 0 Status: OK PackageFile: tradeSeq_1.21.0.tar.gz PackageFileSize: 5.164 MiB