Package: tradeSeq Version: 1.21.0 Command: /Library/Frameworks/R.framework/Resources/bin/R CMD INSTALL tradeSeq StartedAt: 2025-02-20 15:13:28 -0500 (Thu, 20 Feb 2025) EndedAt: 2025-02-20 15:14:09 -0500 (Thu, 20 Feb 2025) EllapsedTime: 41.3 seconds RetCode: 0 Status: OK