Package: tradeSeq Version: 1.21.0 Command: /Library/Frameworks/R.framework/Resources/bin/R CMD build --keep-empty-dirs --no-resave-data tradeSeq StartedAt: 2025-02-20 18:32:32 -0500 (Thu, 20 Feb 2025) EndedAt: 2025-02-20 18:39:30 -0500 (Thu, 20 Feb 2025) EllapsedTime: 418.3 seconds RetCode: 0 Status: OK PackageFile: tradeSeq_1.21.0.tar.gz PackageFileSize: 5.966 MiB