Package: tradeSeq Version: 1.21.0 Command: /home/biocbuild/R/R/bin/R CMD INSTALL tradeSeq StartedAt: 2025-01-29 19:45:25 -0000 (Wed, 29 Jan 2025) EndedAt: 2025-01-29 19:46:07 -0000 (Wed, 29 Jan 2025) EllapsedTime: 41.7 seconds RetCode: 0 Status: OK