Package: tradeSeq Version: 1.21.0 Command: /home/biocbuild/R/R/bin/R CMD build --keep-empty-dirs --no-resave-data tradeSeq StartedAt: 2025-01-28 02:59:20 -0000 (Tue, 28 Jan 2025) EndedAt: 2025-01-28 03:09:15 -0000 (Tue, 28 Jan 2025) EllapsedTime: 595.3 seconds RetCode: 0 Status: OK PackageFile: tradeSeq_1.21.0.tar.gz PackageFileSize: 3.481 MiB