Package: tradeSeq Version: 1.21.0 Command: /Library/Frameworks/R.framework/Resources/bin/R CMD check --install=check:tradeSeq.install-out.txt --library=/Library/Frameworks/R.framework/Resources/library --no-vignettes --timings tradeSeq_1.21.0.tar.gz StartedAt: 2025-02-20 21:51:52 -0500 (Thu, 20 Feb 2025) EndedAt: 2025-02-20 21:59:06 -0500 (Thu, 20 Feb 2025) EllapsedTime: 434.3 seconds RetCode: 0 Status: OK CheckDir: tradeSeq.Rcheck Warnings: 0