Package: tracktables Version: 1.41.0 Command: rm -rf tracktables.buildbin-libdir && mkdir tracktables.buildbin-libdir && E:\biocbuild\bbs-3.21-bioc\R\bin\R.exe CMD INSTALL --build --library=tracktables.buildbin-libdir tracktables_1.41.0.tar.gz StartedAt: 2025-02-21 09:17:37 -0500 (Fri, 21 Feb 2025) EndedAt: 2025-02-21 09:18:07 -0500 (Fri, 21 Feb 2025) EllapsedTime: 29.7 seconds RetCode: 0 Status: OK PackageFile: tracktables_1.41.0.zip PackageFileSize: 408.8 KiB