Package: tracktables Version: 1.41.0 Command: /home/biocbuild/bbs-3.21-bioc/R/bin/R CMD check --install=check:tracktables.install-out.txt --library=/home/biocbuild/bbs-3.21-bioc/R/site-library --timings tracktables_1.41.0.tar.gz StartedAt: 2025-02-21 02:36:56 -0500 (Fri, 21 Feb 2025) EndedAt: 2025-02-21 02:38:34 -0500 (Fri, 21 Feb 2025) EllapsedTime: 98.1 seconds RetCode: 0 Status: WARNINGS CheckDir: tracktables.Rcheck Warnings: 1